BEGIN:VCALENDAR
VERSION:2.0
PRODID:-//Ottawa Street BIA - ECPv6.15.20//NONSGML v1.0//EN
CALSCALE:GREGORIAN
METHOD:PUBLISH
X-WR-CALNAME:Ottawa Street BIA
X-ORIGINAL-URL:https://shopottawastreet.com
X-WR-CALDESC:Events for Ottawa Street BIA
REFRESH-INTERVAL;VALUE=DURATION:PT1H
X-Robots-Tag:noindex
X-PUBLISHED-TTL:PT1H
BEGIN:VTIMEZONE
TZID:America/Toronto
BEGIN:DAYLIGHT
TZOFFSETFROM:-0500
TZOFFSETTO:-0400
TZNAME:EDT
DTSTART:20250309T070000
END:DAYLIGHT
BEGIN:STANDARD
TZOFFSETFROM:-0400
TZOFFSETTO:-0500
TZNAME:EST
DTSTART:20251102T060000
END:STANDARD
BEGIN:DAYLIGHT
TZOFFSETFROM:-0500
TZOFFSETTO:-0400
TZNAME:EDT
DTSTART:20260308T070000
END:DAYLIGHT
BEGIN:STANDARD
TZOFFSETFROM:-0400
TZOFFSETTO:-0500
TZNAME:EST
DTSTART:20261101T060000
END:STANDARD
BEGIN:DAYLIGHT
TZOFFSETFROM:-0500
TZOFFSETTO:-0400
TZNAME:EDT
DTSTART:20270314T070000
END:DAYLIGHT
BEGIN:STANDARD
TZOFFSETFROM:-0400
TZOFFSETTO:-0500
TZNAME:EST
DTSTART:20271107T060000
END:STANDARD
END:VTIMEZONE
BEGIN:VEVENT
DTSTART;TZID=America/Toronto:20260421T180000
DTEND;TZID=America/Toronto:20260421T190000
DTSTAMP:20260421T023539
CREATED:20260114T034634Z
LAST-MODIFIED:20260119T164513Z
UID:797-1776794400-1776798000@shopottawastreet.com
SUMMARY:Ottawa Street Board Meeting
DESCRIPTION:Ottawa Street BIA Board Meeting: \nApril: Our next Board Meeting will take place Tuesday April 21st at 6:00pm. You are welcome to join us in person at 3 Britannia Avenue or virtually via Google Meet: https://meet.google.com/tds-geda-wpi.
URL:https://shopottawastreet.com/event/ottawa-street-board-meeting-3/
LOCATION:Ottawa Street BIA Office\, 3 Britannia Avenue\, Hamilton\, Canada
END:VEVENT
END:VCALENDAR